

BEGIN:VCALENDAR
VERSION:2.0
PRODID:-//Sutter Antiques - ECPv6.13.1//NONSGML v1.0//EN
CALSCALE:GREGORIAN
METHOD:PUBLISH
X-ORIGINAL-URL:https://sutterantiques.com
X-WR-CALDESC:Events for Sutter Antiques
REFRESH-INTERVAL;VALUE=DURATION:PT1H
X-Robots-Tag:noindex
X-PUBLISHED-TTL:PT1H
BEGIN:VTIMEZONE
TZID:America/New_York
BEGIN:DAYLIGHT
TZOFFSETFROM:-0500
TZOFFSETTO:-0400
TZNAME:EDT
DTSTART:20200308T070000
END:DAYLIGHT
BEGIN:STANDARD
TZOFFSETFROM:-0400
TZOFFSETTO:-0500
TZNAME:EST
DTSTART:20201101T060000
END:STANDARD
END:VTIMEZONE
BEGIN:VEVENT
DTSTART;TZID=America/New_York:20200309T180000
DTEND;TZID=America/New_York:20200309T200000
DTSTAMP:20260425T061828
CREATED:20190802T173409Z
LAST-MODIFIED:20200307T191350Z
UID:5574-1583776800-1583784000@sutterantiques.com
SUMMARY:Meditation Practice
DESCRIPTION:Meditation Practice\nMeditation practice with Nancy O’Hara. \n\nSitting still\, focusing on our breath and just listening are keys to knowing\, training\, and changing not only our minds but our world. Eliminate fear\, anxiety\, and anger. Gain self-mastery and love. \nJoin this author\, teacher\, and Mindful Life Coach to learn how to establish and maintain a daily practice—your key to serenity. Sitting in silence\, walking meditation\, mindful listening\, spiritual literature\, and sharing experience are all part of the sessions. Beginners or experienced meditators\, everyone is welcome. \n\n\nFor more on what to do in and around Hudson\, NY\, visit Sutter’s event page.\nSchedule: Ongoing\, Mondays 6:00-8: 00 PM\nLocation: Germantown\, NY\nFor more information call 917-734-7997
URL:https://sutterantiques.com/event/meditation-practice/
LOCATION:Riverside Sangha\, Germantown\, NY\, 12534\, United States
CATEGORIES:Health and Fitness
ATTACH;FMTTYPE=image/jpeg:https://sutterantiques.com/wp-content/uploads/2019/08/Nancy-bio-page.jpg
END:VEVENT
BEGIN:VEVENT
DTSTART;TZID=America/New_York:20200101T110000
DTEND;TZID=America/New_York:20200101T110000
DTSTAMP:20260425T061828
CREATED:20191229T171504Z
LAST-MODIFIED:20191229T171504Z
UID:5680-1577876400-1577876400@sutterantiques.com
SUMMARY:Take a Hike
DESCRIPTION:Take a Hike \nTake a hike at Olana. This one-mile landscape walks along Olana’s upper carriage road loop. Visit our events page for more on what to do in and around Hudson\, NY.
URL:https://sutterantiques.com/event/take-a-hike/
LOCATION:Olana\, 5720 NY-9G\, Hudson\, 12534\, United States
CATEGORIES:Health and Fitness
ATTACH;FMTTYPE=image/jpeg:https://sutterantiques.com/wp-content/uploads/2019/12/594407f1-727c-4d4a-aed1-0ef01e8f3699.hw5_.jpg
END:VEVENT
END:VCALENDAR